BEGIN:VCALENDAR
VERSION:2.0
PRODID:-//TPM - ECPv6.15.20//NONSGML v1.0//EN
CALSCALE:GREGORIAN
METHOD:PUBLISH
X-WR-CALNAME:TPM
X-ORIGINAL-URL:https://www.tpm.com
X-WR-CALDESC:Events for TPM
REFRESH-INTERVAL;VALUE=DURATION:PT1H
X-Robots-Tag:noindex
X-PUBLISHED-TTL:PT1H
BEGIN:VTIMEZONE
TZID:America/New_York
BEGIN:DAYLIGHT
TZOFFSETFROM:-0500
TZOFFSETTO:-0400
TZNAME:EDT
DTSTART:20250309T070000
END:DAYLIGHT
BEGIN:STANDARD
TZOFFSETFROM:-0400
TZOFFSETTO:-0500
TZNAME:EST
DTSTART:20251102T060000
END:STANDARD
BEGIN:DAYLIGHT
TZOFFSETFROM:-0500
TZOFFSETTO:-0400
TZNAME:EDT
DTSTART:20260308T070000
END:DAYLIGHT
BEGIN:STANDARD
TZOFFSETFROM:-0400
TZOFFSETTO:-0500
TZNAME:EST
DTSTART:20261101T060000
END:STANDARD
BEGIN:DAYLIGHT
TZOFFSETFROM:-0500
TZOFFSETTO:-0400
TZNAME:EDT
DTSTART:20270314T070000
END:DAYLIGHT
BEGIN:STANDARD
TZOFFSETFROM:-0400
TZOFFSETTO:-0500
TZNAME:EST
DTSTART:20271107T060000
END:STANDARD
END:VTIMEZONE
BEGIN:VEVENT
DTSTART;VALUE=DATE:20260803
DTEND;VALUE=DATE:20260808
DTSTAMP:20260423T075037
CREATED:20251028T181021Z
LAST-MODIFIED:20260403T001637Z
UID:10000866-1785715200-1786147199@www.tpm.com
SUMMARY:SOLIDWORKS Advanced Parts & Assemblies - August 3rd\, 2026
DESCRIPTION:Length: 5 days; 8:30 am-4:30 pm \nPrice: $2\,500 \nPrerequisites: SOLIDWORKS Essentials \nDescription: This is a two-part class. Advanced Part Modeling teaches you how to use multi-body solids\, sweeping and lofting features\, and SOLIDWORKS’ more advanced shaping capabilities. Assembly Modeling teaches you how to maximize your use of the assembly modeling capabilities of SOLIDWORKS mechanical design automation software. \nView Course Details \nVirtual Training Details: Experience@tpm.com 
URL:https://www.tpm.com/event/solidworks-advanced-parts-assemblies-august-3rd-2026/
LOCATION:Live Virtual Instructor-Led Training
CATEGORIES:Manufacturing,SOLIDWORKS
ORGANIZER;CN="TPM Customer Experience":MAILTO:Experience@tpm.com
END:VEVENT
END:VCALENDAR